BEGIN:VCALENDAR
METHOD:PUBLISH
PRODID:-//LogicWorks GmbH//NONSGML Contentory//EN
VERSION:2.0
CALSCALE:GREGORIAN
X-MS-OLK-FORCEINSPECTOROPEN:TRUE
BEGIN:VEVENT
DTSTAMP:20260423T135230Z
SUMMARY:Science Rallye
DESCRIPTION:Gemeinsam mit den Kopernikus-Projekten organisieren die Wasserstoff-Leitpr
 ojekte auf der ACHEMA eine Science Rallye.
LOCATION:ACHEMA\, Halle 6.0\, Stand D75
CREATED:20240508T150539
LAST-MODIFIED:20240514T121041
DTSTART;VALUE=DATE:20240610T090000
DTEND;VALUE=DATE:20240614T180000
UID:sn_268_date_0@logic-works.net
END:VEVENT
END:VCALENDAR