BEGIN:VCALENDAR
METHOD:PUBLISH
PRODID:-//LogicWorks GmbH//NONSGML Contentory//EN
VERSION:2.0
CALSCALE:GREGORIAN
X-MS-OLK-FORCEINSPECTOROPEN:TRUE
BEGIN:VEVENT
DTSTAMP:20260425T044123Z
SUMMARY:Wasserstoff-Leitprojekte: Hip-Hop trifft Wasserstoff
DESCRIPTION:Hip-Hop ist nicht unbedingt die erste Assoziation beim Thema Energiewende.
  Aber warum eigentlich nicht? Im Rahmen des Wissenschaftsjahres zeigt ein 
 kreatives Battlerap-Event\, dass beide Welten kompatibel sind. Der Eintrit
 t ist kostenfrei.
LOCATION:Club Subway
CREATED:20250318T120809
LAST-MODIFIED:20250623T130247
DTSTART;VALUE=DATE:20250627T180000
DTEND;VALUE=DATE:20250627T220000
UID:sn_374_date_0@logic-works.net
END:VEVENT
END:VCALENDAR