BEGIN:VCALENDAR
METHOD:PUBLISH
PRODID:-//LogicWorks GmbH//NONSGML Contentory//EN
VERSION:2.0
CALSCALE:GREGORIAN
X-MS-OLK-FORCEINSPECTOROPEN:TRUE
BEGIN:VEVENT
DTSTAMP:20260422T054209Z
SUMMARY:TransHyDE Abschlusskonferenz
DESCRIPTION:Nach vier Jahren Laufzeit präsentiert das Wasserstoff-Leitprojekt TransH
 yDE die Ergebnisse seiner Projekte mit einem Blick in die Zukunft.
LOCATION:Futurium
CREATED:20250106T155949
LAST-MODIFIED:20250210T120500
DTSTART;VALUE=DATE:20250325T120000
DTEND;VALUE=DATE:20250327T210000
UID:sn_345_date_0@logic-works.net
END:VEVENT
END:VCALENDAR